BEGIN:VCALENDAR
VERSION:2.0
PRODID:-//LegendFest - ECPv5.0.2.1//NONSGML v1.0//EN
CALSCALE:GREGORIAN
METHOD:PUBLISH
X-WR-CALNAME:LegendFest
X-ORIGINAL-URL:http://legendfest.hr
X-WR-CALDESC:Događaji za LegendFest
BEGIN:VTIMEZONE
TZID:Europe/Paris
BEGIN:DAYLIGHT
TZOFFSETFROM:+0100
TZOFFSETTO:+0200
TZNAME:CEST
DTSTART:20170326T010000
END:DAYLIGHT
BEGIN:STANDARD
TZOFFSETFROM:+0200
TZOFFSETTO:+0100
TZNAME:CET
DTSTART:20171029T010000
END:STANDARD
END:VTIMEZONE
BEGIN:VEVENT
DTSTART;TZID=Europe/Paris:20170708T173000
DTEND;TZID=Europe/Paris:20170708T211500
DTSTAMP:20260421T141052
CREATED:20170618T090751Z
LAST-MODIFIED:20170621T143803Z
UID:6778-1499535000-1499548500@legendfest.hr
SUMMARY:Putokazi na LegendFestu NP Krka
DESCRIPTION:A capella nastupi i koncert Putokaza na LegendFestu na Roškom slapu\, 8. srpnja 2017. ♥ \nPremda ste to možda već naslutili\, živi koncertni susret s riječkom ženskom vokalnom skupinom Putokazi\, dokaz je da doista imate posla s vilama. Nipošto nije riječ o površnom komplimentu.  \nVile u hrvatskom etno svijetu\nNjihovi etno Albumi Zemlja\, Nova Zemlja i Treća Zemlja vode u (pra)davna\, mitska ishodišta glazbenog stvaralaštva\, današnjem dobu toliko začudna da se gdjekad sumnja jesu li i postojala\, što je posljedica medijskim tehnologijama stvorene slike da ničeg izvan tržišnih trendova niti je bilo\, niti jest. \nU pitanju je mitsko\, vilinsko doba\, što se proteže onkraj prostornih i vremenskih granica bilo koje vrste\, zato i teže uhvatljivo. Donekle mu je blisko još samo ono što se kao bljesak ukazalo u glavi anonimnog\, narodnog autora. Onog istog koji je na vremenskoj vertikali vilinskom dobu bio najbliži\, pa je njegove djeliće primio i preoblikovao na njemu razumljiv način\, stvarajući time glazbu vlastitog\, današnjim rječnikom kazano\, etno-svijeta. U slučaju riječkih djevojaka\, to je etno-svijet s pridjevom hrvatski. \nI to s učinkom koji s lakoćom prepoznajemo kao vrijedan doprinos onomu što se žanrovski određuje riječju world music. Možda tako i mora biti. Tko je u dosluhu s vilama\, taj zna što čini. Svjesne koliko glazbenih i u širem smislu riječi kulturnih vrijednosti ostaje po strani od naširoko promoviranih\, ali\, usprkos toj podršci\, kratkotrajnih trendova\, djevojke su se priklonile manje potrošnom\, izdržljivijem materijalu. Bit će da su im vile darovale kakvu tajnu snagu\, tajnu moć.\nImate li odvažnosti pridružiti im se? \nAutor teksta: Velid Đekić \n  \n
URL:http://legendfest.hr/event/putokazi-na-legendfestu-np-krka/
LOCATION:NP Krka\, Naselje BB\, Lozovac\, 22221\, Hrvatska (Croatia)
CATEGORIES:Festivali,NP Krka
ATTACH;FMTTYPE=image/jpeg:http://legendfest.hr/wp-content/uploads/2017/06/PUTOKAZI-Pican.jpg
ORGANIZER;CN="Udruga%20Val%20kulture%2C%20Zagreb":MAILTO:valkulture@hi.t-com.hr
END:VEVENT
END:VCALENDAR