BEGIN:VCALENDAR
VERSION:2.0
PRODID:-//LegendFest - ECPv5.0.2.1//NONSGML v1.0//EN
CALSCALE:GREGORIAN
METHOD:PUBLISH
X-WR-CALNAME:LegendFest
X-ORIGINAL-URL:http://legendfest.hr
X-WR-CALDESC:Događaji za LegendFest
BEGIN:VTIMEZONE
TZID:Europe/Paris
BEGIN:DAYLIGHT
TZOFFSETFROM:+0100
TZOFFSETTO:+0200
TZNAME:CEST
DTSTART:20170326T010000
END:DAYLIGHT
BEGIN:STANDARD
TZOFFSETFROM:+0200
TZOFFSETTO:+0100
TZNAME:CET
DTSTART:20171029T010000
END:STANDARD
END:VTIMEZONE
BEGIN:VEVENT
DTSTART;TZID=Europe/Paris:20170730T220000
DTEND;TZID=Europe/Paris:20170730T220000
DTSTAMP:20260421T141216
CREATED:20170618T083558Z
LAST-MODIFIED:20170716T151809Z
UID:6761-1501452000-1501452000@legendfest.hr
SUMMARY:Nina Kraljić na LegendFestima NP Krka i Pićan
DESCRIPTION:Koncerti Nine Kraljić na LegedFestu na Roškom slapu\, 9. srpnja 2017. i na LegendFestu u Pićnu\, 30. srpnja 2017. ♥ \n \n“Najviše volim nastupati u ambijentu koji podržava mistiku\, world music i primjese etna. Mislim da ćemo se sjajno uklopiti glasom i instrumentalnim zvukom i jako se veselimo ovim nastupima” kaže Nina čiji će specifičan muzički izražaj obogatiti atmosferu ovogodišnjih LegendFesta. \nNakon pobjede u prvoj sezoni The Voice – Najljepši glas Hrvatske\, tri nominacije za Porin i predstavljanja Hrvatske na Eurosongu u Švedskoj\, Nina Kraljić nastavila je redati uspjehe na poslovnom planu. Prošlu godinu obilježila je turnejom po Češkoj i Slovačkoj gdje je bila posebna gošća kultne slovačke rock skupine Elán\, a zaključila ju je objavom debitantskog albuma “Samo” čija je promocija bila 26.01.2017. u kultnom klubu Sax!. U 2017. godini Nina nastavlja s radom i turnejom po Hrvatskoj uz svoj prateći bend\, a izvoditi će pjesme s novog albuma te prepoznatljive interpretacije i obrade poznatih hitova. \n  \n
URL:http://legendfest.hr/event/nina-kraljic-na-legendfestima-np-krka-i-pican/
LOCATION:Pićan\, Pićan\, 52332\, Hrvatska (Croatia)
CATEGORIES:Festivali,NP Krka,Pićan
ATTACH;FMTTYPE=image/jpeg:http://legendfest.hr/wp-content/uploads/2017/06/NINA-KRALJIĆ-3-Copy.jpg
ORGANIZER;CN="Udruga%20Val%20kulture%2C%20Zagreb":MAILTO:valkulture@hi.t-com.hr
END:VEVENT
END:VCALENDAR