BEGIN:VCALENDAR
VERSION:2.0
PRODID:-//LegendFest - ECPv5.0.2.1//NONSGML v1.0//EN
CALSCALE:GREGORIAN
METHOD:PUBLISH
X-WR-CALNAME:LegendFest
X-ORIGINAL-URL:http://legendfest.hr
X-WR-CALDESC:Događaji za LegendFest
BEGIN:VTIMEZONE
TZID:Europe/Paris
BEGIN:DAYLIGHT
TZOFFSETFROM:+0100
TZOFFSETTO:+0200
TZNAME:CEST
DTSTART:20250330T010000
END:DAYLIGHT
BEGIN:STANDARD
TZOFFSETFROM:+0200
TZOFFSETTO:+0100
TZNAME:CET
DTSTART:20251026T010000
END:STANDARD
END:VTIMEZONE
BEGIN:VEVENT
DTSTART;TZID=Europe/Paris:20251004T160000
DTEND;TZID=Europe/Paris:20251005T220000
DTSTAMP:20260421T140221
CREATED:20250920T110015Z
LAST-MODIFIED:20250920T110304Z
UID:9143-1759593600-1759701600@legendfest.hr
SUMMARY:Legendfest Poljica 2025. – Eko-etno selo Čažin Dolac\, Tugare – 04. i 05.10.2025.
DESCRIPTION:I ove godine će se u povijesnoj Poljičkoj knežiji održati Legendfest – festival legendi\, mitova i narodnih priča – kojeg\, u suradnji sa Mjesnim odborom Tugare\, organizira zagrebačka udruga Val Kulture. \nProšle godine se Legendfest održao u etno selu Dolovi u Srijanima (Gornja Poljica)\, a ove godine festival se seli u eko-etno selo Čažin Dolac u Tugarama (Srednja Poljica) i održat će se 04. i 05.10. \nU fokusu ovogodišnjeg festivala biti će hrvatska tradicijska glazbala\, a uz predavanja i koncerte na tu temu posjetitelji će moći uživati i u izložbi LegendExpo te u Legendsajmu unutar kojega će lokalni OPG-ovi prodavati svoje domaće proizvode. Prikazivati će se i tradicionalna izrada opanaka\, umijeće pletenja krtola (košara od šiblja)\, a viteška udruga sv. Nikola iz Varaždina uprizoriti će srednjovjekovni viteški boj te izlagati srednjovjekovnu ratnu opremu. Udruga Kliških uskoka će oba dana festivala održavati radionice streličarstva. \nPosjetitelji će moći poslušati predavanja osječke etnologinje Katarine Dimšić\, hercegovačkog etnomuzikologa\, svirača tradicijskih glazbala i pjevača gange Jure Miloša\, etnologa i svirača tradicijskih glazbala Dominika Ščurića\, istarskog svirača tradicijskih glazbala Zorana Karlića te poljičke kulturne antropologinje Snježane Kordun. \nPosjetitelji će također moći uživati u koncertima benda Imgellad (keltska glazba)\, Lidije Bajuk\, svirača raznovrsnih hrvatskih tradicijskih glazbala te u nastupima mješovite klape Šuferini i ansambla Plet (tradicijska pjevanja i napjevi Gornjih Poljica). \nPo prvi put Legendfest ima svoje “kumove” – utemeljitelje hrvatske etno scene\, Lidiju Bajuk i Mojmira Novakovića te počasnog gosta. \nI ove godine Legendfest u Poljicima se organizira uz potporu Splitsko-dalmatinske županije\, Turističke zajednice Splitsko-dalmatinske županije\, Grada Omiša i Turističke zajednice Grada Omiša. ‎ \n\n
URL:http://legendfest.hr/event/legendfest-poljica-2025-eko-etno-selo-cazin-dolac-tugare-04-i-05-10-2025/
LOCATION:Čažin Dolac\, Tugare\, Čažin Dolac\, Tugare\, Hrvatska (Croatia)
CATEGORIES:Festivali,Poljica
ATTACH;FMTTYPE=image/jpeg:http://legendfest.hr/wp-content/uploads/2025/09/LegendFest4.jpg
ORGANIZER;CN="Udruga%20Val%20kulture%2C%20Zagreb":MAILTO:valkulture@hi.t-com.hr
END:VEVENT
END:VCALENDAR