BEGIN:VCALENDAR
VERSION:2.0
PRODID:-//LegendFest - ECPv5.0.2.1//NONSGML v1.0//EN
CALSCALE:GREGORIAN
METHOD:PUBLISH
X-WR-CALNAME:LegendFest
X-ORIGINAL-URL:http://legendfest.hr
X-WR-CALDESC:Događaji za LegendFest
BEGIN:VTIMEZONE
TZID:Europe/Paris
BEGIN:DAYLIGHT
TZOFFSETFROM:+0100
TZOFFSETTO:+0200
TZNAME:CEST
DTSTART:20170326T010000
END:DAYLIGHT
BEGIN:STANDARD
TZOFFSETFROM:+0200
TZOFFSETTO:+0100
TZNAME:CET
DTSTART:20171029T010000
END:STANDARD
END:VTIMEZONE
BEGIN:VEVENT
DTSTART;TZID=Europe/Paris:20170730T210000
DTEND;TZID=Europe/Paris:20170730T220000
DTSTAMP:20260421T140734
CREATED:20170718T134345Z
LAST-MODIFIED:20170719T044344Z
UID:7258-1501448400-1501452000@legendfest.hr
SUMMARY:Dunja Knebl na LegendFestu Pićan (Istra) 2017.
DESCRIPTION:Dunja Knebl & Kololira reinterpretiraju stare\, bajkovite tradicijske pjesme iz Hrvatske na svoj originalan način kojim su već stekli mnoge poklonike\, pa tako i one izvan Hrvatske. \nUz ne sasvim uobičajeni izbor pjesama (često izvode pjesme iz starih knjiga) koriste i ne sasvim uobičajeni izbor instrumenata kad je u pitanju hrvatska tradicijska glazba. To su\, na primjer\, indijski harmonij\, buzuki\, frame\, kahon\, ali i violina\, harmonika\, blok flauta\, gitara\, te razne “šuškalice”. \nAlbum “Tamo doli” bio je dva mjeseca na top-ljestvici WMCE (World Music Charts Europe)\, dobio recenziju s četiri zvjezdice u londonskom world music časopisu Songlines\, a o Dunji Knebl izašao je istovremeno dulji osvrt u prestižnom londonskom časopisu fRoots. \n
URL:http://legendfest.hr/event/dunja-knebl-na-legendfestu-pican-2017/
LOCATION:Pićan\, Pićan\, 52332\, Hrvatska (Croatia)
CATEGORIES:Festivali,Pićan
ATTACH;FMTTYPE=image/jpeg:http://legendfest.hr/wp-content/uploads/2017/07/Dunja-Knebl-i-Kololira2.jpg
ORGANIZER;CN="Udruga%20Val%20kulture%2C%20Zagreb":MAILTO:valkulture@hi.t-com.hr
END:VEVENT
END:VCALENDAR