BEGIN:VCALENDAR
VERSION:2.0
PRODID:-//LegendFest - ECPv5.0.2.1//NONSGML v1.0//EN
CALSCALE:GREGORIAN
METHOD:PUBLISH
X-WR-CALNAME:LegendFest
X-ORIGINAL-URL:http://legendfest.hr/en
X-WR-CALDESC:Events for LegendFest
BEGIN:VTIMEZONE
TZID:Europe/Paris
BEGIN:DAYLIGHT
TZOFFSETFROM:+0100
TZOFFSETTO:+0200
TZNAME:CEST
DTSTART:20170326T010000
END:DAYLIGHT
BEGIN:STANDARD
TZOFFSETFROM:+0200
TZOFFSETTO:+0100
TZNAME:CET
DTSTART:20171029T010000
END:STANDARD
END:VTIMEZONE
BEGIN:VEVENT
DTSTART;TZID=Europe/Paris:20170730T220000
DTEND;TZID=Europe/Paris:20170730T220000
DTSTAMP:20260421T172129
CREATED:20170618T083558Z
LAST-MODIFIED:20170716T151718Z
UID:6813-1501452000-1501452000@legendfest.hr
SUMMARY:Nina Kraljić at LegendFests NP Krka and Pićan
DESCRIPTION:Nina Kraljić concerts at LegendFest at Roški waterfall – NP Krka\, 9th of July 2017 and at LegendFest in Pićan – Istria\, 30th of July 2017 ♥ \n \n“I adore performing in places where mystics\, world music and the sound of ethno could be combined. I believe our music\, my voice and instrumental sound\, will fit perfectly in the ambient so I am really looking forward to this show.” \nAfter winning the talent show The Voice\, three nominations for Croatian Music Award – Porin 2016 and representing Croatia at Eurovision Song Contest 2016\, Nina continued to make remarkable success on her business plan. Last year she was a supporting act during Elan tour in Czech Republic and Slovakia and she began 2017 by releasing her debut album “Samo” in the famous Croatian club Sax!. She is currently touring with her band and performing songs from her new album and interpretations of famous hits. \n  \n
URL:http://legendfest.hr/en/event/nina-kraljic-at-legendfests-np-krka-and-pican/
LOCATION:Pićan\, Pićan\, 52332\, Hrvatska (Croatia)
CATEGORIES:Festivals,NP Krka,Pićan
ATTACH;FMTTYPE=image/jpeg:http://legendfest.hr/wp-content/uploads/2017/06/NINA-KRALJIĆ-3-Copy.jpg
ORGANIZER;CN="Association%20Val%20kulture%20%28Wave%20of%20culture%29":MAILTO:valkulture@hi.t-com.hr
END:VEVENT
END:VCALENDAR