BEGIN:VCALENDAR
VERSION:2.0
PRODID:-//LegendFest - ECPv5.0.2.1//NONSGML v1.0//EN
CALSCALE:GREGORIAN
METHOD:PUBLISH
X-WR-CALNAME:LegendFest
X-ORIGINAL-URL:http://legendfest.hr/en
X-WR-CALDESC:Events for LegendFest
BEGIN:VTIMEZONE
TZID:Europe/Paris
BEGIN:DAYLIGHT
TZOFFSETFROM:+0100
TZOFFSETTO:+0200
TZNAME:CEST
DTSTART:20160327T010000
END:DAYLIGHT
BEGIN:STANDARD
TZOFFSETFROM:+0200
TZOFFSETTO:+0100
TZNAME:CET
DTSTART:20161030T010000
END:STANDARD
END:VTIMEZONE
BEGIN:VEVENT
DTSTART;VALUE=DATE:20160528
DTEND;VALUE=DATE:20160530
DTSTAMP:20260425T192329
CREATED:20161115T045714Z
LAST-MODIFIED:20170621T144721Z
UID:6193-1464393600-1464566399@legendfest.hr
SUMMARY:LegendFest Lukavec 2016
DESCRIPTION:The theme of the festival: DRAGONS \n♥ \nDragons – one of the oldest and most terrifying mythological creatures\, breathing fire on all parts of the globe. \n \nDid you know that according to the old Croatian folktales\, some of the dragons loot and kill\, but some are benevolent creatures who live in the neighbourhood and breed sheep and pigs\, some are skilled masons\, some are unhappy in love\, some have children\, fear for them as all parents do and bring them up as best they can? If you come to the old town Lukavec surrounded by wise\, old oak trees\, you will have the opportunity not only to meet the dragons from the Croatian legends\, but together with them have lots of fun\, dance\, draw\, look for hidden treasures protected by these dangerous flying creatures\, and you may discover that they are not so wicked and evil as they initially seemed. \nDiscover all about dragons from Croatian folktales at LegendFest in Lukavec on 28th and 29th of May 2016. \n  \nFestival programme can be found here Lukavec16 (.pdf) \n  \n[vc_row][vc_column][vc_tta_tabs active_section=”1″] \n[vc_tta_section title=”Workshops” tab_id=”workshops”] \n[vc_toggle title=”‘Zjaka o pozoju’ – interactive ethno-workshop – Lidija Bajuk” style=”rounded” color=”grey” size=”sm” custom_font_container=”tag:h5|text_align:left” custom_use_theme_fonts=”yes” el_id=”1484731818905-48383c70-abca” use_custom_heading=”true”][/vc_toggle] \n[vc_toggle title=”Dragon path – interactivei land-art – Zvjezdana Jembrih” style=”rounded” color=”grey” size=”sm” custom_font_container=”tag:h5|text_align:left” custom_use_theme_fonts=”yes” el_id=”1485527834272-33339df7-5d35″ use_custom_heading=”true”][/vc_toggle] \n[vc_toggle title=”Where are the dragons hiding? – presentation and art workshop – Koraljka Kuzman Šlogar” style=”rounded” color=”grey” size=”sm” custom_font_container=”tag:h5|text_align:left” custom_use_theme_fonts=”yes” el_id=”1485527902743-aae04d4c-4184″ use_custom_heading=”true”][/vc_toggle] \n[vc_toggle title=”Dragon’s treasure – Center for Children\, Youth and Family\, Velika Gorica” style=”rounded” color=”grey” size=”sm” custom_font_container=”tag:h5|text_align:left” custom_use_theme_fonts=”yes” el_id=”1485527961759-719d949c-d385″ use_custom_heading=”true”][/vc_toggle] \n[vc_toggle title=”Dragon workshop – how to create flying dragons – Ivana Miočić” style=”rounded” color=”grey” size=”sm” custom_font_container=”tag:h5|text_align:left” custom_use_theme_fonts=”yes” el_id=”1485528016705-b04cabda-0cc9″ use_custom_heading=”true”][/vc_toggle] \n[vc_toggle title=”Making of dragon straw sculpture – Nikola Faller\, Association ‘Slama'” style=”rounded” color=”grey” size=”sm” custom_font_container=”tag:h5|text_align:left” custom_use_theme_fonts=”yes” el_id=”1485528070083-86b5e873-42fb” use_custom_heading=”true”][/vc_toggle][/vc_tta_section] \n[vc_tta_section title=”Lectures” tab_id=”lectures”] \n[vc_toggle title=”Lectures by Maja Mastnak-Car” style=”rounded” color=”grey” size=”sm” custom_font_container=”tag:h5|text_align:left” custom_use_theme_fonts=”yes” el_id=”1484731818905-48383c70-abca” use_custom_heading=”true”][/vc_toggle] \n[vc_toggle title=”The search for the forgotten tradition: Sleeping dragons – Iva Silla” style=”rounded” color=”grey” size=”sm” custom_font_container=”tag:h5|text_align:left” custom_use_theme_fonts=”yes” el_id=”1485523444311-9ee37ac1-9ecf” use_custom_heading=”true”][/vc_toggle] \n[vc_toggle title=”Mythical creatures of the medieval imagery – Luka Šešo\, Phd ” style=”rounded” color=”grey” size=”sm” custom_font_container=”tag:h5|text_align:left” custom_use_theme_fonts=”yes” el_id=”1485523443398-0848cbac-e85c” use_custom_heading=”true”][/vc_toggle][/vc_tta_section] \n[vc_tta_section title=”Storytelling” tab_id=”storytelling”] \n[vc_toggle title=”Story call – Margareta Peršić” style=”rounded” color=”grey” size=”sm” custom_font_container=”tag:h5|text_align:left” custom_use_theme_fonts=”yes” el_id=”1485513517837-4c1899ed-39c1″ use_custom_heading=”true”][/vc_toggle] \n[vc_toggle title=”Dragon paths through Golubac – Traditional stories from Dunav region (eastern Serbia) as narrated by grandmothers – Cluster of Cultural Roots” style=”rounded” color=”grey” size=”sm” custom_font_container=”tag:h5|text_align:left” custom_use_theme_fonts=”yes” el_id=”1485670737056-28f20223-668d” use_custom_heading=”true”][/vc_toggle] \n[vc_toggle title=”Tales of Turopolje forests – Folklore society Mičevec” style=”rounded” color=”grey” size=”sm” custom_font_container=”tag:h5|text_align:left” custom_use_theme_fonts=”yes” el_id=”1485670840085-a971c9c0-065c” use_custom_heading=”true”][/vc_toggle][/vc_tta_section] \n[vc_tta_section title=”Plays” tab_id=”plays”] \n[vc_toggle title=”Fairy tale about two ‘LJ’ – Primary school Oroslavje” style=”rounded” color=”grey” size=”sm” custom_font_container=”tag:h5|text_align:left” custom_use_theme_fonts=”yes” el_id=”1485515564173-976bd81a-b202″ use_custom_heading=”true”][/vc_toggle] \n[vc_toggle title=”Dragon with one wing – Laboratory of fun” style=”rounded” color=”grey” size=”sm” custom_font_container=”tag:h5|text_align:left” custom_use_theme_fonts=”yes” el_id=”1485671167147-4a6f2ff1-b62e” use_custom_heading=”true”][/vc_toggle] \n[/vc_tta_section][vc_tta_section title=”Performances” tab_id=”performances”] \n[vc_toggle title=”Magic forest – sound installation/performance – Ivo Vičić” style=”rounded” color=”grey” size=”sm” custom_font_container=”tag:h5|text_align:left” custom_use_theme_fonts=”yes” el_id=”1485515564173-976bd81a-b202″ use_custom_heading=”true”][/vc_toggle] \n[vc_toggle title=”Dragon games – acrobatic/juggling performance and fire show – AcroFunkers” style=”rounded” color=”grey” size=”sm” custom_font_container=”tag:h5|text_align:left” custom_use_theme_fonts=”yes” el_id=”1485515927215-11c9bbe1-52c1″ use_custom_heading=”true”][/vc_toggle] \n[vc_toggle title=”‘Vojuvanje turopolcov z zmajem’ – performance – Folklore society Mičevec” style=”rounded” color=”grey” size=”sm” custom_font_container=”tag:h5|text_align:left” custom_use_theme_fonts=”yes” el_id=”1485516662579-24d5d103-6eea” use_custom_heading=”true”][/vc_toggle] \n[vc_toggle title=”Dance with dragons – Prometheus Fire Show ” style=”rounded” color=”grey” size=”sm” custom_font_container=”tag:h5|text_align:left” custom_use_theme_fonts=”yes” el_id=”1485516867961-edb70193-9b3d” use_custom_heading=”true”][/vc_toggle][/vc_tta_section] \n[vc_tta_section title=”Exhibitions” tab_id=”exhibitions”] \n[vc_toggle title=”Dragons exhibition – Association Artefakt” style=”rounded” color=”grey” size=”sm” custom_font_container=”tag:h5|text_align:left” custom_use_theme_fonts=”yes” el_id=”1485515564173-976bd81a-b202″ use_custom_heading=”true”][/vc_toggle] \n[vc_toggle title=”Faces of shamans – installation of masks – Marina Lapardatović and Tihomir Marinković” style=”rounded” color=”grey” size=”sm” custom_font_container=”tag:h5|text_align:left” custom_use_theme_fonts=”yes” el_id=”1485524194042-59fd891f-830d” use_custom_heading=”true”][/vc_toggle] \n[vc_toggle title=”Walk through north-west wind and moon shadows – illustrations\, projections\, dolls and scenes – Zdenko Bašić” style=”rounded” color=”grey” size=”sm” custom_font_container=”tag:h5|text_align:left” custom_use_theme_fonts=”yes” el_id=”1485524262795-53eca501-4307″ use_custom_heading=”true”][/vc_toggle][/vc_tta_section] \n[vc_tta_section title=”Music” tab_id=”music”] \n[vc_toggle title=”KRIES – ethno music concert by ethno band ‘Kries'” style=”rounded” color=”grey” size=”sm” custom_font_container=”tag:h5|text_align:left” custom_use_theme_fonts=”yes” el_id=”1485516338325-161802a6-3fec” use_custom_heading=”true”][/vc_toggle] \n[vc_toggle title=”Pozojev’s women – Vocal and instrumental ensemble ‘Jane'” style=”rounded” color=”grey” size=”sm” custom_font_container=”tag:h5|text_align:left” custom_use_theme_fonts=”yes” el_id=”1485515564173-976bd81a-b202″ use_custom_heading=”true”][/vc_toggle] \n[vc_toggle title=”BAGPIPERS – concert by Stjepan Večković and Croatian bagpipe orcestra” style=”rounded” color=”grey” size=”sm” custom_font_container=”tag:h5|text_align:left” custom_use_theme_fonts=”yes” el_id=”1485516337718-d561e1f0-febb” use_custom_heading=”true”][/vc_toggle] \n[/vc_tta_section][/vc_tta_tabs][/vc_column][/vc_row] \n
URL:http://legendfest.hr/en/event/lukavec/
LOCATION:Lukavec\, Lukavec\, 10412\, Hrvatska (Croatia)
CATEGORIES:Festivals,Lukavec
ATTACH;FMTTYPE=image/jpeg:http://legendfest.hr/wp-content/uploads/2016/11/najava_lukavec2.jpg
ORGANIZER;CN="Association%20Val%20kulture%20%28Wave%20of%20culture%29":MAILTO:valkulture@hi.t-com.hr
END:VEVENT
END:VCALENDAR