BEGIN:VCALENDAR
VERSION:2.0
PRODID:-//LegendFest - ECPv5.0.2.1//NONSGML v1.0//EN
CALSCALE:GREGORIAN
METHOD:PUBLISH
X-WR-CALNAME:LegendFest
X-ORIGINAL-URL:http://legendfest.hr/en
X-WR-CALDESC:Events for LegendFest
BEGIN:VTIMEZONE
TZID:Europe/Paris
BEGIN:DAYLIGHT
TZOFFSETFROM:+0100
TZOFFSETTO:+0200
TZNAME:CEST
DTSTART:20250330T010000
END:DAYLIGHT
BEGIN:STANDARD
TZOFFSETFROM:+0200
TZOFFSETTO:+0100
TZNAME:CET
DTSTART:20251026T010000
END:STANDARD
END:VTIMEZONE
BEGIN:VEVENT
DTSTART;TZID=Europe/Paris:20251004T160000
DTEND;TZID=Europe/Paris:20251005T220000
DTSTAMP:20260421T154255
CREATED:20250920T110015Z
LAST-MODIFIED:20250926T142456Z
UID:9147-1759593600-1759701600@legendfest.hr
SUMMARY:LegendFest Poljica 2025 – Eco-Ethno Village Čažin Dolac\, Tugare – October 4–5\, 2025
DESCRIPTION:LegendFest Poljica 2025 – Eco-Ethno Village Čažin Dolac\, Tugare – October 4–5\, 2025\nOctober 4 @ 16:00 – October 5 @ 22:00 \nThis year\, once again\, in the historic Poljica Principality\, LegendFest – the festival of legends\, myths\, and folk tales – will take place. The event is organized by the Zagreb-based association Val Kulture in cooperation with the Local Committee of Tugare. \nLast year\, LegendFest was held in the ethno village Dolovi in Srijane (Upper Poljica)\, and this year the festival moves to the eco-ethno village Čažin Dolac in Tugare (Middle Poljica). It will take place on October 4 and 5. \nThe focus of this year’s festival will be Croatian traditional instruments. Alongside lectures and concerts on the theme\, visitors will also be able to enjoy the LegendExpo exhibition and the LegendSajam fair\, where local family farms (OPGs) will offer their homemade products. There will also be demonstrations of traditional shoemaking (opanci)\, the craft of weaving krtola (willow baskets)\, while the medieval knights’ association St. Nicholas from Varaždin will stage a medieval battle and display period military equipment. The Klis Uskoks association will run archery workshops throughout both festival days. \nVisitors will have the opportunity to attend lectures by: \n\nethnologist Katarina Dimšić from Osijek\,\nHerzegovinian ethnomusicologist\, traditional musician and ganga singer Jure Miloš\,\nethnologist and traditional musician Dominik Šćurić\,\nIstrian traditional musician Zoran Karlić\,\nand cultural anthropologist from Poljica Snježana Kordun.\n\nThe music program will feature concerts by: \n\nImgellad (Celtic music)\,\nLidija Bajuk\,\nmusicians performing a variety of Croatian traditional instruments\,\nthe mixed vocal ensemble Šuferini\,\nand the ensemble Plet (traditional singing and chants from Upper Poljica).\n\nFor the first time\, LegendFest will have its own “patrons” – pioneers of the Croatian ethno scene Lidija Bajuk and Mojmir Novaković\, as well as an honorary guest. \nThis year too\, LegendFest in Poljica is organized with the support of the Split-Dalmatia County\, the Tourist Board of Split-Dalmatia County\, the City of Omiš\, and the Tourist Board of the City of Omiš. \n
URL:http://legendfest.hr/en/event/legendfest-poljica-2025-eco-ethno-village-cazin-dolac-tugare-october-4-5-2025/
LOCATION:Čažin Dolac\, Tugare\, Čažin Dolac\, Tugare\, Hrvatska (Croatia)
CATEGORIES:Festivals
ATTACH;FMTTYPE=image/jpeg:http://legendfest.hr/wp-content/uploads/2025/09/LegendFest4.jpg
ORGANIZER;CN="Association%20Val%20kulture%20%28Wave%20of%20culture%29":MAILTO:valkulture@hi.t-com.hr
END:VEVENT
END:VCALENDAR