BEGIN:VCALENDAR
VERSION:2.0
PRODID:-//LegendFest - ECPv5.0.2.1//NONSGML v1.0//EN
CALSCALE:GREGORIAN
METHOD:PUBLISH
X-WR-CALNAME:LegendFest
X-ORIGINAL-URL:http://legendfest.hr/en
X-WR-CALDESC:Events for LegendFest
BEGIN:VTIMEZONE
TZID:Europe/Paris
BEGIN:DAYLIGHT
TZOFFSETFROM:+0100
TZOFFSETTO:+0200
TZNAME:CEST
DTSTART:20160327T010000
END:DAYLIGHT
BEGIN:STANDARD
TZOFFSETFROM:+0200
TZOFFSETTO:+0100
TZNAME:CET
DTSTART:20161030T010000
END:STANDARD
END:VTIMEZONE
BEGIN:VEVENT
DTSTART;VALUE=DATE:20160730
DTEND;VALUE=DATE:20160801
DTSTAMP:20260425T210539
CREATED:20170127T135158Z
LAST-MODIFIED:20170621T145032Z
UID:6183-1469836800-1470009599@legendfest.hr
SUMMARY:LegendFest Pićan 2016
DESCRIPTION:The theme of the festival: VAMPIRES \n♥ \nAre you terrified of vampires but still quietly hope to chance upon one? Are you prepared to be influenced by their wicked charm? If you think this is possible only in Transylvania then you are mistaken. Come to the fairy-tale like town of Pićan. Pićan provides a timeless view of Istria and it is here you will meet the first European vampire and famous Croatian – Jure Grando. \nSome say Jure Grando was simply a man persecuted by the church while others say he was something entirely different. Come to Pićan and decide for yourself WHO or WHAT Jure Grando really was. \nTest your courage and satisfy your curiosity at LegendFest in Pićan on the 30th and 31st of July 2016. \n  \nFestival programme can be found here LegendFest Pićan16 (.pdf) \n  \n[vc_row][vc_column][vc_tta_tabs][vc_tta_section title=”Lectures” tab_id=”lectures”] \n[vc_toggle title=”Vampire(s) and dialectics of Vampirism – lecture about real/objective Vampirism today – Filip Ličanin” style=”rounded” color=”grey” size=”sm” custom_font_container=”tag:h5|text_align:left” custom_use_theme_fonts=”yes” el_id=”1484731818905-48383c70-abca” use_custom_heading=”true”][/vc_toggle] \n[vc_toggle title=”Akasha contracts – destiny in our hands – Egli Ilić” style=”rounded” color=”grey” size=”sm” custom_font_container=”tag:h5|text_align:left” custom_use_theme_fonts=”yes” el_id=”1485523444311-9ee37ac1-9ecf” use_custom_heading=”true”][/vc_toggle] \n[vc_toggle title=”The art of seduction or the devil’s work? The case of one adulterous couple in 1755 in the town of Buzet\, Istria – Miroslav Bertoša” style=”rounded” color=”grey” size=”sm” custom_font_container=”tag:h5|text_align:left” custom_use_theme_fonts=”yes” el_id=”1485523443398-0848cbac-e85c” use_custom_heading=”true”][/vc_toggle] \n[vc_toggle title=”LegendFest – guardian of Croatian folk tales and legends – case study research as part of the doctoral study of Croatian culture in Zagreb – Elis Baćac” style=”rounded” color=”grey” size=”sm” custom_font_container=”tag:h5|text_align:left” custom_use_theme_fonts=”yes” el_id=”1485523542126-721493bd-8bc1″ use_custom_heading=”true”][/vc_toggle][/vc_tta_section] \n[vc_tta_section title=”Storytelling” tab_id=”storytelling”] \n[vc_toggle title=”Story call – Margareta Peršić” style=”rounded” color=”grey” size=”sm” custom_font_container=”tag:h5|text_align:left” custom_use_theme_fonts=”yes” el_id=”1485513517837-4c1899ed-39c1″ use_custom_heading=”true”][/vc_toggle][/vc_tta_section] \n[vc_tta_section title=”Plays” tab_id=”plays”] \n[vc_toggle title=”Vampire chronicle Jure Grando – Istrian National Theatre – Pula Town Theatre – author and director Damir Zlatar Frey” style=”rounded” color=”grey” size=”sm” custom_font_container=”tag:h5|text_align:left” custom_use_theme_fonts=”yes” el_id=”1485515564173-976bd81a-b202″ use_custom_heading=”true”][/vc_toggle][/vc_tta_section] \n[vc_tta_section title=”Performances” tab_id=”performances”] \n[vc_toggle title=”Vampire-ology (myths\, legends and reality) – Musical stage performance – Filip Ličanin” style=”rounded” color=”grey” size=”sm” custom_font_container=”tag:h5|text_align:left” custom_use_theme_fonts=”yes” el_id=”1485515564173-976bd81a-b202″ use_custom_heading=”true”][/vc_toggle] \n[vc_toggle title=”Programme of Historical Association Castle of Svetvinčenat” style=”rounded” color=”grey” size=”sm” custom_font_container=”tag:h5|text_align:left” custom_use_theme_fonts=”yes” el_id=”1485515927215-11c9bbe1-52c1″ use_custom_heading=”true”][/vc_toggle] \n[vc_toggle title=”Škarpino XVI – circus/entertainment programme – Davor Peršić” style=”rounded” color=”grey” size=”sm” custom_font_container=”tag:h5|text_align:left” custom_use_theme_fonts=”yes” el_id=”1485516662579-24d5d103-6eea” use_custom_heading=”true”][/vc_toggle] \n[vc_toggle title=”Primeval fire – fire show – duo Artifan (Davor and Margareta Peršić)” style=”rounded” color=”grey” size=”sm” custom_font_container=”tag:h5|text_align:left” custom_use_theme_fonts=”yes” el_id=”1485516736875-f1b9d39c-2066″ use_custom_heading=”true”][/vc_toggle] \n[vc_toggle title=”Lunctus Tribus – United Tribes – fire and dance spectacle – Artifan (Davor and Margareta Peršić)\, Hasya (Ivica Škaro and Sunčica Dropulić) and Natya (Sofija Mihoković)” style=”rounded” color=”grey” size=”sm” custom_font_container=”tag:h5|text_align:left” custom_use_theme_fonts=”yes” el_id=”1485516790397-a11bd497-1edd” use_custom_heading=”true”][/vc_toggle] \n[vc_toggle title=”Burning of the werewalf straw sculpture – closing ceremony of the 11th LegendFest – Nikola Faller ” style=”rounded” color=”grey” size=”sm” custom_font_container=”tag:h5|text_align:left” custom_use_theme_fonts=”yes” el_id=”1485516867961-edb70193-9b3d” use_custom_heading=”true”][/vc_toggle][/vc_tta_section] \n[vc_tta_section title=”Exhibitions” tab_id=”exhibitions”] \n[vc_toggle title=”Left or right? – exterior and interior artistic decoration – Association Val Kulture\, Municipality of Pićan\, Amalija Albaneže and Jasmina Bator” style=”rounded” color=”grey” size=”sm” custom_font_container=”tag:h5|text_align:left” custom_use_theme_fonts=”yes” el_id=”1485515564173-976bd81a-b202″ use_custom_heading=”true”][/vc_toggle] \n[vc_toggle title=”Vampires – exhibition – Kringa – Municipality of Tinjan\, Ivor Zidarić and Amalija Albaneže” style=”rounded” color=”grey” size=”sm” custom_font_container=”tag:h5|text_align:left” custom_use_theme_fonts=”yes” el_id=”1485524194042-59fd891f-830d” use_custom_heading=”true”][/vc_toggle] \n[vc_toggle title=”The myth about the bird – exhibition of paintings – Manuel Šumberac” style=”rounded” color=”grey” size=”sm” custom_font_container=”tag:h5|text_align:left” custom_use_theme_fonts=”yes” el_id=”1485524194042-59fd891f-830d” use_custom_heading=”true”][/vc_toggle] \n[vc_toggle title=”LegendArt – exhibition of art works by students from Primary School I. G. Kovačić from Čepići” style=”rounded” color=”grey” size=”sm” custom_font_container=”tag:h5|text_align:left” custom_use_theme_fonts=”yes” el_id=”1485524410118-9b5782be-5cd6″ use_custom_heading=”true”][/vc_toggle][/vc_tta_section] \n[vc_tta_section title=”Music” tab_id=”music”] \n[vc_toggle title=”VOYAGE – concert – Jelena Radan” style=”rounded” color=”grey” size=”sm” custom_font_container=”tag:h5|text_align:left” custom_use_theme_fonts=”yes” el_id=”1485515564173-976bd81a-b202″ use_custom_heading=”true”][/vc_toggle] \n[vc_toggle title=”KRIES – ethno music concert – ethno band Kries” style=”rounded” color=”grey” size=”sm” custom_font_container=”tag:h5|text_align:left” custom_use_theme_fonts=”yes” el_id=”1485516338325-161802a6-3fec” use_custom_heading=”true”][/vc_toggle] \n[vc_toggle title=”BAGPIPERS – concert – Stjepan Večković and Croatian bagpipe orchestra” style=”rounded” color=”grey” size=”sm” custom_font_container=”tag:h5|text_align:left” custom_use_theme_fonts=”yes” el_id=”1485516337718-d561e1f0-febb” use_custom_heading=”true”][/vc_toggle] \n[/vc_tta_section][/vc_tta_tabs][/vc_column][/vc_row] \n  \n
URL:http://legendfest.hr/en/event/legendfest-pican-2016/
LOCATION:Pićan\, Pićan\, 52332\, Hrvatska (Croatia)
CATEGORIES:Festivals,Pićan
ATTACH;FMTTYPE=image/jpeg:http://legendfest.hr/wp-content/uploads/2017/01/Pican-2016_1920x1200.jpg
ORGANIZER;CN="The%20municipality%20of%20Pi%C4%87an":MAILTO:info@pican.hr
END:VEVENT
END:VCALENDAR