BEGIN:VCALENDAR
VERSION:2.0
PRODID:-//LegendFest - ECPv5.0.2.1//NONSGML v1.0//EN
CALSCALE:GREGORIAN
METHOD:PUBLISH
X-WR-CALNAME:LegendFest
X-ORIGINAL-URL:http://legendfest.hr/en
X-WR-CALDESC:Events for LegendFest
BEGIN:VTIMEZONE
TZID:Europe/Paris
BEGIN:DAYLIGHT
TZOFFSETFROM:+0100
TZOFFSETTO:+0200
TZNAME:CEST
DTSTART:20170326T010000
END:DAYLIGHT
BEGIN:STANDARD
TZOFFSETFROM:+0200
TZOFFSETTO:+0100
TZNAME:CET
DTSTART:20171029T010000
END:STANDARD
END:VTIMEZONE
BEGIN:VEVENT
DTSTART;VALUE=DATE:20170708
DTEND;VALUE=DATE:20170710
DTSTAMP:20260425T161023
CREATED:20161201T110005Z
LAST-MODIFIED:20170701T032225Z
UID:4400-1499472000-1499644799@legendfest.hr
SUMMARY:LegendFest NP Krka 2017
DESCRIPTION:The theme of the festival: FAIRIES AND FAIRY CREATURES  \n♥ \nDiscover the magical powers of fairies and fairy-like creatures emerging from Water\, Cloud and Earth and enjoy the rich programme that we have prepared for you at Roški slap. Festival programme schedule can be downloaded here. \n \nAll festival programmes are free of charge and participation registration is not required. \nFestival Programme\n[vc_row][vc_column][vc_tta_tabs][vc_tta_section title=”Workshops” tab_id=”workshops”][vc_toggle title=”Fairies and elves – Rinella Ivankovć ” style=”rounded” color=”grey” size=”sm” custom_font_container=”tag:h5|text_align:left” custom_use_theme_fonts=”yes” el_id=”1484731818905-48383c70-abca” use_custom_heading=”true”]Dry gourd painting workshop[/vc_toggle][vc_toggle title=”Wishing tree – Rinella Ivanković ” style=”rounded” color=”grey” size=”sm” custom_font_container=”tag:h5|text_align:left” custom_use_theme_fonts=”yes” el_id=”1484731881204-2a5d8711-efb5″ use_custom_heading=”true”]Making fairy symbols and wishes art workshop[/vc_toggle][vc_toggle title=”Colours of life – Kristina Panić ” style=”rounded” color=”grey” size=”sm” custom_font_container=”tag:h5|text_align:left” custom_use_theme_fonts=”yes” el_id=”1484731879881-86d7af93-6e67″ use_custom_heading=”true”]Fractals drawing workshop[/vc_toggle][vc_toggle title=”Two teardrops for the river Krka passage – Kristina Panić ” style=”rounded” color=”grey” size=”sm” custom_font_container=”tag:h5|text_align:left” custom_use_theme_fonts=”yes” use_custom_heading=”true”]Canvas painting workshop[/vc_toggle][vc_toggle title=”Weaving a waterfall one drop at a time – Association for promotion of inclusion\, Šibenik” style=”rounded” color=”grey” size=”sm” custom_font_container=”tag:h5|text_align:left” custom_use_theme_fonts=”yes” el_id=”1485513423692-75a9f1fd-3bc7″ use_custom_heading=”true”]Embroidery and making decorative items workshop[/vc_toggle][vc_toggle title=”Spellbound fairy – Public Institution NP ‘Krka’” style=”rounded” color=”grey” size=”sm” custom_font_container=”tag:h5|text_align:left” custom_use_theme_fonts=”yes” el_id=”1485513480485-a4b0baa3-c99b” use_custom_heading=”true”]Creative workshop[/vc_toggle][vc_toggle title=”Enchanted horses – Public Institution NP ‘Krka’” style=”rounded” color=”grey” size=”sm” custom_font_container=”tag:h5|text_align:left” custom_use_theme_fonts=”yes” el_id=”1485513517837-4c1899ed-39c1″ use_custom_heading=”true”]Art workshop[/vc_toggle][vc_toggle title=”When fairies day dream – Magmatikka” style=”rounded” color=”grey” size=”sm” custom_font_container=”tag:h5|text_align:left” custom_use_theme_fonts=”yes” el_id=”1498443138154-ea92ca67-3426″ use_custom_heading=”true”]Poi juggling workshop[/vc_toggle][vc_toggle title=”The basics of flying with fairy dust – Association Traumatic Arts\, Zagreb” style=”rounded” color=”grey” size=”sm” custom_font_container=”tag:h5|text_align:left” custom_use_theme_fonts=”yes” el_id=”1498443140287-7dbd5d09-1358″ use_custom_heading=”true”]Acrobatic workshop with aerial silk and hoops[/vc_toggle][vc_toggle title=”Forest faces – Dorotea Gašpar” style=”rounded” color=”grey” size=”sm” custom_font_container=”tag:h5|text_align:left” custom_use_theme_fonts=”yes” el_id=”1498443242634-bbb9ccde-28cb” use_custom_heading=”true”]Face painting[/vc_toggle][vc_toggle title=”Fairy hair – Olivera Trutin” style=”rounded” color=”grey” size=”sm” custom_font_container=”tag:h5|text_align:left” custom_use_theme_fonts=”yes” el_id=”1498443255216-439f6c1d-a109″ use_custom_heading=”true”]Hairdressing for fairies and elves[/vc_toggle][/vc_tta_section][vc_tta_section title=”Storytelling” tab_id=”storytelling”][vc_toggle title=”Fairies and clouds fairy-tale – Nada Mihaljević” style=”rounded” color=”grey” size=”sm” open=”true” custom_font_container=”tag:h5|text_align:left” custom_use_theme_fonts=”yes” el_id=”1485513517837-4c1899ed-39c1″ use_custom_heading=”true”]Storytelling about fairies and magical properties of plants[/vc_toggle][/vc_tta_section][vc_tta_section title=”Plays” tab_id=”plays”][vc_toggle title=”The legend of the city of Knin” style=”rounded” color=”grey” size=”sm” open=”true” custom_font_container=”tag:h5|text_align:left” custom_use_theme_fonts=”yes” el_id=”1485515564173-976bd81a-b202″ use_custom_heading=”true”]Stage musical play – historical assembly of ‘King Zvonimir’s knights’\, Children’s and Youth Theatre ‘Pinocchio’ and dance troupe ‘Ninie’.[/vc_toggle][/vc_tta_section][vc_tta_section title=”Performances” tab_id=”performances”][vc_toggle title=”When fairies day dream – Magmatikka ” style=”rounded” color=”grey” size=”sm” custom_font_container=”tag:h5|text_align:left” custom_use_theme_fonts=”yes” el_id=”1485515564173-976bd81a-b202″ use_custom_heading=”true”]Poi juggling performance[/vc_toggle][vc_toggle title=”Alchemy of lights and dreams – Filip Borelli” style=”rounded” color=”grey” size=”sm” custom_font_container=”tag:h5|text_align:left” custom_use_theme_fonts=”yes” el_id=”1485515927215-11c9bbe1-52c1″ use_custom_heading=”true”]Closing ceremony – light kinetic sculpture[/vc_toggle][vc_toggle title=”Flight of the cloud fairies – Association Traumatic Arts\, Zagreb” style=”rounded” color=”grey” size=”sm” custom_font_container=”tag:h5|text_align:left” custom_use_theme_fonts=”yes” el_id=”1485516662579-24d5d103-6eea” use_custom_heading=”true”]Dance and acrobatic performance with aerial silk and hoops[/vc_toggle][vc_toggle title=”Fairycello – Association Razbibriga\, Zagreb ” style=”rounded” color=”grey” size=”sm” custom_font_container=”tag:h5|text_align:left” custom_use_theme_fonts=”yes” el_id=”1485516736875-f1b9d39c-2066″ use_custom_heading=”true”]Juggling-dancing-musical performance[/vc_toggle][vc_toggle title=”Secrets of fairies – Karmen Herceg” style=”rounded” color=”grey” size=”sm” custom_font_container=”tag:h5|text_align:left” custom_use_theme_fonts=”yes” el_id=”1485516790397-a11bd497-1edd” use_custom_heading=”true”]Fashion parade of fairies from river Krka[/vc_toggle][vc_toggle title=”Voice of the water fairy – Ivo Vičić” style=”rounded” color=”grey” size=”sm” custom_font_container=”tag:h5|text_align:left” custom_use_theme_fonts=”yes” el_id=”1485516867961-edb70193-9b3d” use_custom_heading=”true”]Sound installation[/vc_toggle][vc_toggle title=”Fairy dance circle – Vanesa Petrac\, Lana Krstulović\, Tamara Pahić\, Antonella Šantek” style=”rounded” color=”grey” size=”sm” custom_font_container=”tag:h5|text_align:left” custom_use_theme_fonts=”yes” el_id=”1498443996271-d727bdf1-615d” use_custom_heading=”true”]Stage musical performance[/vc_toggle][vc_toggle title=”March of the ‘Poljica’ fairies – Association Eko Etno Gornja Poljica” style=”rounded” color=”grey” size=”sm” custom_font_container=”tag:h5|text_align:left” custom_use_theme_fonts=”yes” el_id=”1498444066746-5b355baa-5374″ use_custom_heading=”true”]Stage musical performance[/vc_toggle][/vc_tta_section][vc_tta_section title=”Exhibitions” tab_id=”exhibitions”][vc_toggle title=”LegendExpo – Fairies” style=”rounded” color=”grey” size=”sm” custom_font_container=”tag:h5|text_align:left” custom_use_theme_fonts=”yes” el_id=”1498442377752-e03177fd-dab5″ use_custom_heading=”true”]Exhibition of art[/vc_toggle][vc_toggle title=”Fairyopolis – The world in a water droplet – Amalija Albaneže and Vanesa Petrac” style=”rounded” color=”grey” size=”sm” custom_font_container=”tag:h5|text_align:left” custom_use_theme_fonts=”yes” el_id=”1498442403373-f25661b3-daab” use_custom_heading=”true”]Exterior and interior design[/vc_toggle][/vc_tta_section][vc_tta_section title=”Concerts” tab_id=”concerts”][vc_toggle title=”Touch the moon – Musical group ‘PUTOKAZI’” style=”rounded” color=”grey” size=”sm” custom_font_container=”tag:h5|text_align:left” custom_use_theme_fonts=”yes” el_id=”1485515564173-976bd81a-b202″ use_custom_heading=”true”]A chapel performance and a concert[/vc_toggle][vc_toggle title=”Nina Kraljić” style=”rounded” color=”grey” size=”sm” custom_font_container=”tag:h5|text_align:left” custom_use_theme_fonts=”yes” el_id=”1485516338325-161802a6-3fec” use_custom_heading=”true”]Concert[/vc_toggle][/vc_tta_section][vc_tta_section title=”Films” tab_id=”films”][vc_toggle title=”Legend of Šibenik – Marija Krnčević Rak and Association Val kulture\, Zagreb” style=”rounded” color=”grey” size=”sm” open=”true” custom_font_container=”tag:h5|text_align:left” custom_use_theme_fonts=”yes” el_id=”1485515564173-976bd81a-b202″ use_custom_heading=”true”]Ethnic film[/vc_toggle][/vc_tta_section][/vc_tta_tabs][/vc_column][/vc_row] \n  \n
URL:http://legendfest.hr/en/event/legendfest-np-krka-2017/
LOCATION:NP Krka\, Naselje BB\, Lozovac\, 22221\, Hrvatska (Croatia)
CATEGORIES:Festivals,NP Krka
ATTACH;FMTTYPE=image/jpeg:http://legendfest.hr/wp-content/uploads/2016/12/np-krka-2017.jpg
ORGANIZER;CN="Public%20Institution%20%22National%20Park%20Krka%22":MAILTO:info@npk.hr
END:VEVENT
END:VCALENDAR