BEGIN:VCALENDAR
VERSION:2.0
PRODID:-//LegendFest - ECPv5.0.2.1//NONSGML v1.0//EN
CALSCALE:GREGORIAN
METHOD:PUBLISH
X-WR-CALNAME:LegendFest
X-ORIGINAL-URL:http://legendfest.hr/en
X-WR-CALDESC:Events for LegendFest
BEGIN:VTIMEZONE
TZID:Europe/Paris
BEGIN:DAYLIGHT
TZOFFSETFROM:+0100
TZOFFSETTO:+0200
TZNAME:CEST
DTSTART:20160327T010000
END:DAYLIGHT
BEGIN:STANDARD
TZOFFSETFROM:+0200
TZOFFSETTO:+0100
TZNAME:CET
DTSTART:20161030T010000
END:STANDARD
END:VTIMEZONE
BEGIN:VEVENT
DTSTART;VALUE=DATE:20160709
DTEND;VALUE=DATE:20160711
DTSTAMP:20260425T192746
CREATED:20170127T114151Z
LAST-MODIFIED:20170621T144814Z
UID:6171-1468022400-1468195199@legendfest.hr
SUMMARY:LegendFest NP Krka 2016
DESCRIPTION:The theme of the festival: FAIRIES AND FAIRY CREATURES \n♥ \nHow do fairies look like? What can make them angry? What happens when they lose a strand of hair? Who are the elves and the pixies? Why do fairies have animal legs according to the old Croatian folktales from Inner Dalmatia? \n \nIf you cannot resist the intoxicating call of fairies and their seductive dance\, come to the Krka and dance with them at the magic Roški waterfall. But be careful\, you might be taken by the fairies into their magical kingdom and never return to this world. If you want just that\, you are in the right place! \nMeet and socialize with fairies\, elves and pixies as well as other mythical creatures from the Šibenik-Knin County folktales at the first LegendFest in Krka on the 9th and 10th of July 2016. \n\nFestival programme can be found here LegendFest Krka16 (.pdf) \nFestival Announcement Day (Friday 8th of July 2016)\n[vc_toggle title=”City library Juraj Šižgorić Šibenik” style=”rounded” color=”grey” size=”sm” custom_font_container=”tag:h5|text_align:left” custom_use_theme_fonts=”yes” el_id=”1485515927215-11c9bbe1-52c1″ use_custom_heading=”true”] \nThe ‘vilenica’ and ‘vilenjak’: The destiny of a pre-Christian cult in the period of witch persecution – lecture – M.Sc. Zoran Čiča – 18.00 – 19.00 / ‘Vilenica’ and ‘vilenjak’ in Croatian mythology describe women and men who have had contacts with fairies and usually possess special healing powers \nLegends of Šibenik region – lecture about mythical creatures and myths related to Krka but also the wider area of Zagora region – Professor Marko Dragić – 19.00 – 20.00 \n[/vc_toggle] \n[vc_toggle title=”Trg (Square) Ivana Pavla II – Public Institution National Park Krka\, Šibenik” style=”rounded” color=”grey” size=”sm” custom_font_container=”tag:h5|text_align:left” custom_use_theme_fonts=”yes” el_id=”1485521270941-02a8f711-6bc7″ use_custom_heading=”true”] \nInformation – Public Institution ‘National Park Krka’ and Association ‘Val kulture’ (Wave of culture) – 19.00 – 21.00 \nStory call – storytelling and animation – Margareta Peršić – 19.00 – 21.00 \nWater fairies of Krka – art workshop for children – 19.00 – 21.00 \nFairies and elves – dance performance – dance theatre ‘Sjene’ (Shadows) – 19.00 – 20.00 \nFairy cookies – presentation – Association ‘Kamenčić’ (Little stones) – 19.00 – 22.00 \nPresentation of the LegendFest programme from Šibenik region – 19.00 – 22.00 \nTrilja IV – circus/entertainment programme on the theme of fairies and an invitation to the festival – 20.00 – 21.00 \nYAMMA – concert – ethno music band from Israel – 21.30 \n[/vc_toggle] \nFestival Days (Saturday 9th of July and Sunday 10th of July)\n[vc_row][vc_column][vc_tta_tabs] \n[vc_tta_section title=”Workshops” tab_id=”workshops”] \n[vc_toggle title=”Fairy stories at Krka – storytelling/art/music project – Ana Udovičić and Association ‘Kamenčići’ (Little stones)” style=”rounded” color=”grey” size=”sm” custom_font_container=”tag:h5|text_align:left” custom_use_theme_fonts=”yes” el_id=”1484731818905-48383c70-abca” use_custom_heading=”true”][/vc_toggle] \n[vc_toggle title=”Fairies\, rhythm\, tone\, waterfall – musical workshop – Lucija Stanojević and Martin Turšić” style=”rounded” color=”grey” size=”sm” custom_font_container=”tag:h5|text_align:left” custom_use_theme_fonts=”yes” el_id=”1484731881204-2a5d8711-efb5″ use_custom_heading=”true”][/vc_toggle] \n[vc_toggle title=”The flight of the cloud fairies – dance and acrobatic workshop with aerial silk and hoop – Association ‘Traumatic Arts'” style=”rounded” color=”grey” size=”sm” custom_font_container=”tag:h5|text_align:left” custom_use_theme_fonts=”yes” el_id=”1484731879881-86d7af93-6e67″ use_custom_heading=”true”][/vc_toggle] \n[vc_toggle title=”Colours of life – drawing workshop of fractals – Kristina Panić” style=”rounded” color=”grey” size=”sm” custom_font_container=”tag:h5|text_align:left” custom_use_theme_fonts=”yes” use_custom_heading=”true”][/vc_toggle] \n[vc_toggle title=”Bagpipes and fairies love – workshop and presentations of traditional Croatian instruments – Stjepan Večković and Croatian bagpipe orchestra” style=”rounded” color=”grey” size=”sm” custom_font_container=”tag:h5|text_align:left” custom_use_theme_fonts=”yes” el_id=”1485513423692-75a9f1fd-3bc7″ use_custom_heading=”true”][/vc_toggle] \n[vc_toggle title=”Become a fairy/elf – face painting\, dress up and makeup” style=”rounded” color=”grey” size=”sm” custom_font_container=”tag:h5|text_align:left” custom_use_theme_fonts=”yes” el_id=”1485513480485-a4b0baa3-c99b” use_custom_heading=”true”][/vc_toggle] \n[vc_toggle title=”Memories from the world of fairies – costume dressing for children and photo taking with a fairy on the swing” style=”rounded” color=”grey” size=”sm” custom_font_container=”tag:h5|text_align:left” custom_use_theme_fonts=”yes” el_id=”1485513517837-4c1899ed-39c1″ use_custom_heading=”true”][/vc_toggle][/vc_tta_section] \n[vc_tta_section title=”Storytelling” tab_id=”storytelling”] \n[vc_toggle title=”Story call – Margareta Peršić” style=”rounded” color=”grey” size=”sm” custom_font_container=”tag:h5|text_align:left” custom_use_theme_fonts=”yes” el_id=”1485513517837-4c1899ed-39c1″ use_custom_heading=”true”][/vc_toggle] \n[vc_toggle title=”Fairies of the Dalmatian hinterland\, bad or good\, beautiful or hideous? – musical storytelling – Dijana Zajec ” style=”rounded” color=”grey” size=”sm” custom_font_container=”tag:h5|text_align:left” custom_use_theme_fonts=”yes” el_id=”1485515564173-976bd81a-b202″ use_custom_heading=”true”][/vc_toggle][/vc_tta_section] \n[vc_tta_section title=”Plays” tab_id=”plays”] \n[vc_toggle title=”Fairy and the old man – puppet show – Primary school ‘Petra Krešimira IV.’\, Šibenik – Nataša Jurić Stanković\, Andrea Cinotti and Antoni Paškov” style=”rounded” color=”grey” size=”sm” custom_font_container=”tag:h5|text_align:left” custom_use_theme_fonts=”yes” el_id=”1485515564173-976bd81a-b202″ use_custom_heading=”true”][/vc_toggle][/vc_tta_section] \n[vc_tta_section title=”Performances” tab_id=”performances”] \n[vc_toggle title=”Trilja IV – circus/entertainment programme” style=”rounded” color=”grey” size=”sm” custom_font_container=”tag:h5|text_align:left” custom_use_theme_fonts=”yes” el_id=”1485515564173-976bd81a-b202″ use_custom_heading=”true”][/vc_toggle] \n[vc_toggle title=”Creation of a large straw deer sculpture – Nikola Faller and Association ‘Slama’ (Straw)” style=”rounded” color=”grey” size=”sm” custom_font_container=”tag:h5|text_align:left” custom_use_theme_fonts=”yes” el_id=”1485515927215-11c9bbe1-52c1″ use_custom_heading=”true”][/vc_toggle] \n[vc_toggle title=”The flight of the cloud fairies – dance and acrobatic performance with aerial silk and hoop – Association ‘Traumatic Arts'” style=”rounded” color=”grey” size=”sm” custom_font_container=”tag:h5|text_align:left” custom_use_theme_fonts=”yes” el_id=”1485516662579-24d5d103-6eea” use_custom_heading=”true”][/vc_toggle] \n[vc_toggle title=”The dance of the fairy Butterfly and Water fairy – Iva Juršić Uravić and Suzana Malović” style=”rounded” color=”grey” size=”sm” custom_font_container=”tag:h5|text_align:left” custom_use_theme_fonts=”yes” el_id=”1485516736875-f1b9d39c-2066″ use_custom_heading=”true”][/vc_toggle] \n[vc_toggle title=”Spring fairies and the battle of the forest fairies – dance theatre ‘Sjene’ (Shadows)” style=”rounded” color=”grey” size=”sm” custom_font_container=”tag:h5|text_align:left” custom_use_theme_fonts=”yes” el_id=”1485516790397-a11bd497-1edd” use_custom_heading=”true”][/vc_toggle] \n[vc_toggle title=”Fairy circle dance – dance performance around the straw deer – Nikola Faller and Association ‘Slama’ (Straw)” style=”rounded” color=”grey” size=”sm” custom_font_container=”tag:h5|text_align:left” custom_use_theme_fonts=”yes” el_id=”1485516867961-edb70193-9b3d” use_custom_heading=”true”][/vc_toggle][/vc_tta_section] \n[vc_tta_section title=”Exhibitions” tab_id=”exhibitions”] \n[vc_toggle title=”Exhibitions/Installations” style=”rounded” color=”grey” size=”sm” custom_font_container=”tag:h5|text_align:left” custom_use_theme_fonts=”yes” el_id=”1485515564173-976bd81a-b202″ use_custom_heading=”true”] \nFairy dresses \nExhibition of dresses in a natural environment of Roški waterfall – Museum of Turopolje\, Velika Gorica \nFairies \nExhibition of photographs/prints on canvas in a natural environment of Roški waterfall – Iva Lulić \nThe path to the world of fairies \nInterior and exterior artistic decoration – Amalija Albaneže and Iva Lulić \nLost water fairies \nLive pictures of fairies in a natural environment of Roški waterfall – Iva Lulić \nForest fairies \nExhibition of paintings – Secret world of Stjepan Večković \nThe myth about the bird \nExhibition of paintings – Manuel Šumberac \nLegendExpo \nExhibition of visual identities of previous LegendFest festivals in Croatia \n[/vc_toggle][/vc_tta_section] \n[vc_tta_section title=”Music” tab_id=”music”] \n[vc_toggle title=”Bagpipers – concert – Stjepan Večković and Croatian bagpipe orchestra” style=”rounded” color=”grey” size=”sm” custom_font_container=”tag:h5|text_align:left” custom_use_theme_fonts=”yes” el_id=”1485515564173-976bd81a-b202″ use_custom_heading=”true”][/vc_toggle] \n[vc_toggle title=”The sound of water and water fairies – gong concert – Kristina Panić” style=”rounded” color=”grey” size=”sm” custom_font_container=”tag:h5|text_align:left” custom_use_theme_fonts=”yes” el_id=”1485516338325-161802a6-3fec” use_custom_heading=”true”][/vc_toggle] \n[vc_toggle title=”Lidija Bajuk Quartet – ethno music concert” style=”rounded” color=”grey” size=”sm” custom_font_container=”tag:h5|text_align:left” custom_use_theme_fonts=”yes” el_id=”1485516337718-d561e1f0-febb” use_custom_heading=”true”][/vc_toggle] \n[vc_toggle title=”Fairy ballads – concert – Meri Jaman\, Anita Valo and Jelena Radan” style=”rounded” color=”grey” size=”sm” custom_font_container=”tag:h5|text_align:left” custom_use_theme_fonts=”yes” el_id=”1485516336137-56154e76-6a7d” use_custom_heading=”true”][/vc_toggle] \n[vc_toggle title=”The place for me – concert – performance for children – Meritas and Jelena Radan ” style=”rounded” color=”grey” size=”sm” custom_font_container=”tag:h5|text_align:left” custom_use_theme_fonts=”yes” el_id=”1485516470815-25befb44-bb9b” use_custom_heading=”true”][/vc_toggle][/vc_tta_section] \n[vc_tta_section title=”Films” tab_id=”films”] \n[vc_toggle title=”Ethno film about Šibenik legend – Museum of Town of Šibenik – Marija and Željko Krnčević” style=”rounded” color=”grey” size=”sm” custom_font_container=”tag:h5|text_align:left” custom_use_theme_fonts=”yes” el_id=”1485515564173-976bd81a-b202″ use_custom_heading=”true”][/vc_toggle][/vc_tta_section][/vc_tta_tabs][/vc_column][/vc_row] \n  \n
URL:http://legendfest.hr/en/event/legendfest-np-krka-2016/
LOCATION:NP Krka\, Naselje BB\, Lozovac\, 22221\, Hrvatska (Croatia)
CATEGORIES:Festivals,NP Krka
ATTACH;FMTTYPE=image/jpeg:http://legendfest.hr/wp-content/uploads/2017/01/Vile_1280x800.jpg
ORGANIZER;CN="Association%20Val%20kulture%20%28Wave%20of%20culture%29":MAILTO:valkulture@hi.t-com.hr
END:VEVENT
END:VCALENDAR