BEGIN:VCALENDAR
VERSION:2.0
PRODID:-//LegendFest - ECPv5.0.2.1//NONSGML v1.0//EN
CALSCALE:GREGORIAN
METHOD:PUBLISH
X-WR-CALNAME:LegendFest
X-ORIGINAL-URL:http://legendfest.hr/en
X-WR-CALDESC:Events for LegendFest
BEGIN:VTIMEZONE
TZID:Europe/Paris
BEGIN:DAYLIGHT
TZOFFSETFROM:+0100
TZOFFSETTO:+0200
TZNAME:CEST
DTSTART:20160327T010000
END:DAYLIGHT
BEGIN:STANDARD
TZOFFSETFROM:+0200
TZOFFSETTO:+0100
TZNAME:CET
DTSTART:20161030T010000
END:STANDARD
END:VTIMEZONE
BEGIN:VEVENT
DTSTART;TZID=Europe/Paris:20160613T110000
DTEND;TZID=Europe/Paris:20160613T130000
DTSTAMP:20260421T203017
CREATED:20161127T023932Z
LAST-MODIFIED:20170209T100210Z
UID:6203-1465815600-1465822800@legendfest.hr
SUMMARY:LegendExpo in Skradin - Introduction to LegendFest NP Krka
DESCRIPTION:LegendExpo – exhibition of original artwork by renowned Croatian illustrators and creators of LegendFest visual identities is moving from the old town of Lukavec and continental Croatia to Skradin where the exhibition will be held in the administrative building of the Public Institute of Krka National Park. \nThe exhibition will be officially opened on Monday\, the 13th of June\, 2016 at 11AM by the director of the Public Institute of Krka National Park\, Krešimir Šakić and the president of the Association Val kulture (Wave of culture). This exhibition is an opportunity to present to the public the joint collaboration between the Public institute of Krka National Park and the Association Val kulture – Zagreb in the organization of this year’s first LegendFest in Šibenik-Knin County at the Roški slap (Roški waterfall) on the 9th and 10th of July 2016. \nThe press conference will also be held on the opening day to promote the concept and program of LegendFest\, as well as the collaboration of the organizers. \n
URL:http://legendfest.hr/en/event/legendexpo-in-skradin-introduction-to-legendfest-np-krka/
LOCATION:Administrative building of the Public Institute of Krka National Park\, Trg Ivana Pavla II 5\, Šibenik\, 22000\, Hrvatska (Croatia)
CATEGORIES:Exhibitions,LegendExpo
ATTACH;FMTTYPE=image/jpeg:http://legendfest.hr/wp-content/uploads/2016/12/1-1.jpg
END:VEVENT
END:VCALENDAR