BEGIN:VCALENDAR
VERSION:2.0
PRODID:-//LegendFest - ECPv5.0.2.1//NONSGML v1.0//EN
CALSCALE:GREGORIAN
METHOD:PUBLISH
X-WR-CALNAME:LegendFest
X-ORIGINAL-URL:http://legendfest.hr/en
X-WR-CALDESC:Events for LegendFest
BEGIN:VTIMEZONE
TZID:Europe/Paris
BEGIN:DAYLIGHT
TZOFFSETFROM:+0100
TZOFFSETTO:+0200
TZNAME:CEST
DTSTART:20170326T010000
END:DAYLIGHT
BEGIN:STANDARD
TZOFFSETFROM:+0200
TZOFFSETTO:+0100
TZNAME:CET
DTSTART:20171029T010000
END:STANDARD
END:VTIMEZONE
BEGIN:VEVENT
DTSTART;TZID=Europe/Paris:20170729T223000
DTEND;TZID=Europe/Paris:20170729T233000
DTSTAMP:20260421T153839
CREATED:20170718T164055Z
LAST-MODIFIED:20170719T051401Z
UID:7281-1501367400-1501371000@legendfest.hr
SUMMARY:Drvored concert at LegendFest Pićan (Istria) 2017
DESCRIPTION:A concert by ‘Drvored’ will certainly stir up the LegendFest atmosphere in Pićan this Saturday evening\, 29th of July 2017. \n \nThis 9- piece big band is known for their mixture of world music\, chansons\, ska rock and they have the name for their genre – Balkankan! \nDrvored is a band from Croatia founded in 2010 in Zagreb. Their fresh sound is driven by instruments like accordion\, flute\, violin\, saxophone\, trombone\, trumpet so every dance floor is wiped out by their powerful brass section. \n
URL:http://legendfest.hr/en/event/drvored-na-legendfestu-pican-istra-2017/
LOCATION:Pićan\, Pićan\, 52332\, Hrvatska (Croatia)
CATEGORIES:Festivals,Pićan
ATTACH;FMTTYPE=image/jpeg:http://legendfest.hr/wp-content/uploads/2017/07/Drvored2.jpg
END:VEVENT
END:VCALENDAR